BEGIN:VCALENDAR
VERSION:2.0
PRODID:-//MKSC - ECPv6.2.8.1//NONSGML v1.0//EN
CALSCALE:GREGORIAN
METHOD:PUBLISH
X-ORIGINAL-URL:https://mksc.org.uk
X-WR-CALDESC:Events for MKSC
REFRESH-INTERVAL;VALUE=DURATION:PT1H
X-Robots-Tag:noindex
X-PUBLISHED-TTL:PT1H
BEGIN:VTIMEZONE
TZID:Europe/London
BEGIN:DAYLIGHT
TZOFFSETFROM:+0000
TZOFFSETTO:+0100
TZNAME:BST
DTSTART:20260329T010000
END:DAYLIGHT
BEGIN:STANDARD
TZOFFSETFROM:+0100
TZOFFSETTO:+0000
TZNAME:GMT
DTSTART:20261025T010000
END:STANDARD
END:VTIMEZONE
BEGIN:VEVENT
DTSTART;TZID=Europe/London:20260422T140000
DTEND;TZID=Europe/London:20260422T200000
DTSTAMP:20260420T031752
CREATED:20260126T174801Z
LAST-MODIFIED:20260126T174801Z
UID:1621-1776866400-1776888000@mksc.org.uk
SUMMARY:Wednesday Casual Sailing and Racing
DESCRIPTION:
URL:https://mksc.org.uk/events/wednesday-casual-sailing-and-racing-38/
LOCATION:MKSC
CATEGORIES:1. MKSC
END:VEVENT
BEGIN:VEVENT
DTSTART;TZID=Europe/London:20260425T100000
DTEND;TZID=Europe/London:20260425T173000
DTSTAMP:20260420T031752
CREATED:20260125T201049Z
LAST-MODIFIED:20260125T201252Z
UID:1436-1777111200-1777138200@mksc.org.uk
SUMMARY:DI instructor course in collaboration with EPSC
DESCRIPTION:
URL:https://mksc.org.uk/events/di-instructor-course-in-collaboration-with-epsc/
CATEGORIES:3. RYA training
END:VEVENT
BEGIN:VEVENT
DTSTART;TZID=Europe/London:20260426T100000
DTEND;TZID=Europe/London:20260426T170000
DTSTAMP:20260420T031752
CREATED:20260126T180433Z
LAST-MODIFIED:20260126T180433Z
UID:1774-1777197600-1777222800@mksc.org.uk
SUMMARY:Sunday racing
DESCRIPTION:
URL:https://mksc.org.uk/events/sunday-racing-170/
LOCATION:MKSC
CATEGORIES:1. MKSC
END:VEVENT
BEGIN:VEVENT
DTSTART;TZID=Europe/London:20260426T100000
DTEND;TZID=Europe/London:20260426T173000
DTSTAMP:20260420T031752
CREATED:20260125T201320Z
LAST-MODIFIED:20260125T201320Z
UID:1438-1777197600-1777224600@mksc.org.uk
SUMMARY:DI instructor course in collaboration with EPSC
DESCRIPTION:
URL:https://mksc.org.uk/events/di-instructor-course-in-collaboration-with-epsc-2/
CATEGORIES:3. RYA training
END:VEVENT
BEGIN:VEVENT
DTSTART;TZID=Europe/London:20260429T140000
DTEND;TZID=Europe/London:20260429T200000
DTSTAMP:20260420T031752
CREATED:20260126T174802Z
LAST-MODIFIED:20260126T174802Z
UID:1622-1777471200-1777492800@mksc.org.uk
SUMMARY:Wednesday Casual Sailing and Racing
DESCRIPTION:
URL:https://mksc.org.uk/events/wednesday-casual-sailing-and-racing-39/
LOCATION:MKSC
CATEGORIES:1. MKSC
END:VEVENT
END:VCALENDAR